BEGIN:VCALENDAR
VERSION:2.0
PRODID:-//VOS/ABB - ECPv6.15.12.2//NONSGML v1.0//EN
CALSCALE:GREGORIAN
METHOD:PUBLISH
X-WR-CALNAME:VOS/ABB
X-ORIGINAL-URL:https://www.vosabb.nl
X-WR-CALDESC:Evenementen voor VOS/ABB
REFRESH-INTERVAL;VALUE=DURATION:PT1H
X-Robots-Tag:noindex
X-PUBLISHED-TTL:PT1H
BEGIN:VTIMEZONE
TZID:Europe/Amsterdam
BEGIN:DAYLIGHT
TZOFFSETFROM:+0100
TZOFFSETTO:+0200
TZNAME:CEST
DTSTART:20250330T010000
END:DAYLIGHT
BEGIN:STANDARD
TZOFFSETFROM:+0200
TZOFFSETTO:+0100
TZNAME:CET
DTSTART:20251026T010000
END:STANDARD
BEGIN:DAYLIGHT
TZOFFSETFROM:+0100
TZOFFSETTO:+0200
TZNAME:CEST
DTSTART:20260329T010000
END:DAYLIGHT
BEGIN:STANDARD
TZOFFSETFROM:+0200
TZOFFSETTO:+0100
TZNAME:CET
DTSTART:20261025T010000
END:STANDARD
BEGIN:DAYLIGHT
TZOFFSETFROM:+0100
TZOFFSETTO:+0200
TZNAME:CEST
DTSTART:20270328T010000
END:DAYLIGHT
BEGIN:STANDARD
TZOFFSETFROM:+0200
TZOFFSETTO:+0100
TZNAME:CET
DTSTART:20271031T010000
END:STANDARD
END:VTIMEZONE
BEGIN:VEVENT
DTSTART;TZID=Europe/Amsterdam:20260511T150000
DTEND;TZID=Europe/Amsterdam:20260511T180000
DTSTAMP:20260423T162852
CREATED:20260402T090134Z
LAST-MODIFIED:20260403T102240Z
UID:153403-1778511600-1778522400@www.vosabb.nl
SUMMARY:Oriëntatie op samenwerking en bestuurlijke fusie – bijeenkomst voor bestuurders en toezichthouders - Woerden
DESCRIPTION:Het onderwijs staat voor grote uitdagingen. Dalende leerlingaantallen\, personeelstekorten\, verwachtingen vanuit de samenleving\, toenemende eisen en regeldruk vanuit de overheid\, vragen om strategische keuzes. Eén van de mogelijkheden die steeds vaker wordt verkend\, is samenwerking of fusie tussen onderwijsorganisaties. \n\n\n\nMaar wat betekent samenwerken of fuseren in de praktijk? Welke kansen biedt het – en waar moet je als bestuurder of toezichthouder scherp op zijn? \n\n\n\nWij nodigen je van harte uit voor een bijeenkomst over samenwerken en fuseren in het funderend onderwijs. \n\n\n\nIn deze bijeenkomst \n\n\n\n\nKrijg je inzicht in het waarom van samenwerking en wanneer fusie een strategische optie kan zijn.\n\n\n\nKrijg je inzicht in het wettelijke kader rondom samenwerking en fusie in het onderwijs.\n\n\n\nBespreken we de rol van bestuur en raad van toezicht in verschillende fasen van een fusieproces.\n\n\n\nDelen we praktische lessen uit recente fusietrajecten.\n\n\n\nIs er ruimte voor uitwisseling met collega-bestuurders en toezichthouders.\n\n\n\n\nDeze bijeenkomst biedt je de gelegenheid om kennis te verdiepen\, ervaringen te delen en vooruit te kijken naar duurzame organisatievormen voor het onderwijs van morgen. \n\n\n\nVoor wieBestuurders en leden van raden van toezicht in het primair en voortgezet onderwijs. \n\n\n\nPraktische informatie \n\n\n\n\n\nWe sluiten af met een gezamenlijke maaltijd.  \n\n\n\nHet aantal plaatsen is beperkt. De datum van aanmelding sluit op: vrijdag 10 april. \n\n\n\nDe kosten voor deze bijeenkomst bedragen € 250\, incl. maaltijd. \n\n\n\nAanmelden is mogelijk via onderstaande link. \n\n\n\nUITNODIGING Oriëntatie op samenwerking en bestuurlijke fusie – Formulier invullen
URL:https://www.vosabb.nl/kalender/orientatie-op-samenwerking-en-bestuurlijke-fusie-bijeenkomst-voor-bestuurders-en-toezichthouders-woerden/
LOCATION:De Hall\, Korenmolenlaan 4\, Woerden\, 3447 GG
CATEGORIES:Bijeenkomst
END:VEVENT
BEGIN:VEVENT
DTSTART;TZID=Europe/Amsterdam:20260513T093000
DTEND;TZID=Europe/Amsterdam:20260513T120000
DTSTAMP:20260423T162852
CREATED:20250826T145056Z
LAST-MODIFIED:20250828T140556Z
UID:150467-1778664600-1778673600@www.vosabb.nl
SUMMARY:Kennisnetwerk Financiën 3 - PO regio oost
DESCRIPTION:Deze bijeenkomst is bedoeld om kennis en ervaring over financiën met elkaar te delen. Deelname is gratis voor leden van VOS/ABB.
URL:https://www.vosabb.nl/kalender/netwerkbijeenkomst-kennisnetwerk-financien-3-oost/
LOCATION:Zinder\, Andriessenplein 22 A\, Deventer\, 7425 GX
CATEGORIES:Bijeenkomst
END:VEVENT
BEGIN:VEVENT
DTSTART;TZID=Europe/Amsterdam:20260518T153000
DTEND;TZID=Europe/Amsterdam:20260518T183000
DTSTAMP:20260423T162852
CREATED:20260402T090511Z
LAST-MODIFIED:20260420T124319Z
UID:153405-1779118200-1779129000@www.vosabb.nl
SUMMARY:Oriëntatie op samenwerking en bestuurlijke fusie – bijeenkomst voor bestuurders en toezichthouders - Assen
DESCRIPTION:Het onderwijs staat voor grote uitdagingen. Dalende leerlingaantallen\, personeelstekorten\, verwachtingen vanuit de samenleving\, toenemende eisen en regeldruk vanuit de overheid\, vragen om strategische keuzes. Eén van de mogelijkheden die steeds vaker wordt verkend\, is samenwerking of fusie tussen onderwijsorganisaties. \n\n\n\nMaar wat betekent samenwerken of fuseren in de praktijk? Welke kansen biedt het – en waar moet je als bestuurder of toezichthouder scherp op zijn? \n\n\n\nWij nodigen je van harte uit voor een bijeenkomst over samenwerken en fuseren in het funderend onderwijs. \n\n\n\nIn deze bijeenkomst \n\n\n\n\nKrijg je inzicht in het waarom van samenwerking en wanneer fusie een strategische optie kan zijn.\n\n\n\nKrijg je inzicht in het wettelijke kader rondom samenwerking en fusie in het onderwijs.\n\n\n\nBespreken we de rol van bestuur en raad van toezicht in verschillende fasen van een fusieproces.\n\n\n\nDelen we praktische lessen uit recente fusietrajecten.\n\n\n\nIs er ruimte voor uitwisseling met collega-bestuurders en toezichthouders.\n\n\n\n\nDeze bijeenkomst biedt je de gelegenheid om kennis te verdiepen\, ervaringen te delen en vooruit te kijken naar duurzame organisatievormen voor het onderwijs van morgen. \n\n\n\nVoor wie \n\n\n\nBestuurders en leden van raden van toezicht in het primair en voortgezet onderwijs. \n\n\n\nPraktische informatie \n\n\n\n\n\nWe sluiten af met een gezamenlijke maaltijd.  \n\n\n\nHet aantal plaatsen is beperkt. De datum van aanmelding sluit op: vrijdag 10 april. \n\n\n\nDe kosten voor deze bijeenkomst bedragen € 250\, incl. maaltijd. \n\n\n\nAanmelden is mogelijk via onderstaande link. \n\n\n\nUITNODIGING Oriëntatie op samenwerking en bestuurlijke fusie – Formulier invullen
URL:https://www.vosabb.nl/kalender/orientatie-op-samenwerking-en-bestuurlijke-fusie-bijeenkomst-voor-bestuurders-en-toezichthouders-assen/
LOCATION:Van der Valk Hotel – Assen\, Balkenweg 1\, Assen\, 9405 CC
CATEGORIES:Bijeenkomst
END:VEVENT
BEGIN:VEVENT
DTSTART;TZID=Europe/Amsterdam:20260519T093000
DTEND;TZID=Europe/Amsterdam:20260519T120000
DTSTAMP:20260423T162852
CREATED:20250826T144805Z
LAST-MODIFIED:20260205T084928Z
UID:150465-1779183000-1779192000@www.vosabb.nl
SUMMARY:Kennisnetwerk Financiën 3 - PO regio noord-west
DESCRIPTION:Deze bijeenkomst is bedoeld om kennis en ervaring over financiën met elkaar te delen. Deelname is gratis voor leden van VOS/ABB.
URL:https://www.vosabb.nl/kalender/netwerkbijeenkomst-kennisnetwerk-financien-3-noord-west/
LOCATION:Bestuurskantoor Stichting Ronduit\, Havinghastraat 22\, Alkmaar\, 1817 DA
CATEGORIES:Bijeenkomst
END:VEVENT
BEGIN:VEVENT
DTSTART;TZID=Europe/Amsterdam:20260519T100000
DTEND;TZID=Europe/Amsterdam:20260519T150000
DTSTAMP:20260423T162852
CREATED:20260220T125708Z
LAST-MODIFIED:20260423T073943Z
UID:153142-1779184800-1779202800@www.vosabb.nl
SUMMARY:Basiscursus CAO VO (VOL)
DESCRIPTION:Tijdens de basiscursus CAO VO krijg je inzicht in de bepalingen uit de CAO VO. Mr. Hafida Amziab legt je uit hoe het levensfasebewust personeelsbeleid werkt\, maar ook waar je rekening mee moet houden bij het aangaan van dienstverbanden\, disciplinaire maatregelen\, ontslag of verlof.    \n\n\n\nDe cursus is interessant voor P&O- of HRM-medewerkers\, salarisadministratie en leidinggevenden die nieuw zijn in het onderwijs of de kennis willen opfrissen.   \n\n\n\n\n\n\n\nLees meer
URL:https://www.vosabb.nl/kalender/basiscursus-cao-vo-7/
LOCATION:Kantoor VOS/ABB\, Houttuinlaan 8\, Woerden\, 3447 GM
CATEGORIES:Bijeenkomst
END:VEVENT
BEGIN:VEVENT
DTSTART;TZID=Europe/Amsterdam:20260520T153000
DTEND;TZID=Europe/Amsterdam:20260520T183000
DTSTAMP:20260423T162852
CREATED:20260402T090745Z
LAST-MODIFIED:20260403T102211Z
UID:153406-1779291000-1779301800@www.vosabb.nl
SUMMARY:Oriëntatie op samenwerking en bestuurlijke fusie – bijeenkomst voor bestuurders en toezichthouders - Breda
DESCRIPTION:Het onderwijs staat voor grote uitdagingen. Dalende leerlingaantallen\, personeelstekorten\, verwachtingen vanuit de samenleving\, toenemende eisen en regeldruk vanuit de overheid\, vragen om strategische keuzes. Eén van de mogelijkheden die steeds vaker wordt verkend\, is samenwerking of fusie tussen onderwijsorganisaties. \n\n\n\nMaar wat betekent samenwerken of fuseren in de praktijk? Welke kansen biedt het – en waar moet je als bestuurder of toezichthouder scherp op zijn? \n\n\n\nWij nodigen je van harte uit voor een bijeenkomst over samenwerken en fuseren in het funderend onderwijs. \n\n\n\nIn deze bijeenkomst \n\n\n\n\nKrijg je inzicht in het waarom van samenwerking en wanneer fusie een strategische optie kan zijn.\n\n\n\nKrijg je inzicht in het wettelijke kader rondom samenwerking en fusie in het onderwijs.\n\n\n\nBespreken we de rol van bestuur en raad van toezicht in verschillende fasen van een fusieproces.\n\n\n\nDelen we praktische lessen uit recente fusietrajecten.\n\n\n\nIs er ruimte voor uitwisseling met collega-bestuurders en toezichthouders.\n\n\n\n\nDeze bijeenkomst biedt je de gelegenheid om kennis te verdiepen\, ervaringen te delen en vooruit te kijken naar duurzame organisatievormen voor het onderwijs van morgen. \n\n\n\nVoor wie \n\n\n\nBestuurders en leden van raden van toezicht in het primair en voortgezet onderwijs. \n\n\n\nPraktische informatie \n\n\n\n\n\nWe sluiten af met een gezamenlijke maaltijd. \n\n\n\nHet aantal plaatsen is beperkt. De datum van aanmelding sluit op: vrijdag 10 april. \n\n\n\nDe kosten voor deze bijeenkomst bedragen € 250\, incl. maaltijd. \n\n\n\nAanmelden is mogelijk via onderstaande link. \n\n\n\nUITNODIGING Oriëntatie op samenwerking en bestuurlijke fusie – Formulier invullen
URL:https://www.vosabb.nl/kalender/orientatie-op-samenwerking-en-bestuurlijke-fusie-bijeenkomst-voor-bestuurders-en-toezichthouders-assen-2/
LOCATION:Van der Valk Hotel – Breda\, Princenhagelaan 5\, Breda\, 4813 DA
CATEGORIES:Bijeenkomst
END:VEVENT
BEGIN:VEVENT
DTSTART;TZID=Europe/Amsterdam:20260526T133000
DTEND;TZID=Europe/Amsterdam:20260526T160000
DTSTAMP:20260423T162852
CREATED:20250826T145603Z
LAST-MODIFIED:20260123T090203Z
UID:150469-1779802200-1779811200@www.vosabb.nl
SUMMARY:Kennisnetwerk Financiën 3 - PO regio zuid-west
DESCRIPTION:Deze bijeenkomst is bedoeld om kennis en ervaring over financiën met elkaar te delen. Deelname is gratis voor leden van VOS/ABB. \n\n\n\n\n\n\n\nLunch vanaf 12.30 uur.
URL:https://www.vosabb.nl/kalender/netwerkbijeenkomst-kennisnetwerk-financien-3-zuid-west/
LOCATION:Albero Scholen\, Deestraat 3\, 's Heer Arendskerke\, 4458 AJ
CATEGORIES:Bijeenkomst
END:VEVENT
BEGIN:VEVENT
DTSTART;TZID=Europe/Amsterdam:20260526T153000
DTEND;TZID=Europe/Amsterdam:20260526T183000
DTSTAMP:20260423T162852
CREATED:20260402T091247Z
LAST-MODIFIED:20260403T102131Z
UID:153412-1779809400-1779820200@www.vosabb.nl
SUMMARY:Oriëntatie op samenwerking en bestuurlijke fusie – bijeenkomst voor bestuurders en toezichthouders - Alkmaar
DESCRIPTION:Het onderwijs staat voor grote uitdagingen. Dalende leerlingaantallen\, personeelstekorten\, verwachtingen vanuit de samenleving\, toenemende eisen en regeldruk vanuit de overheid\, vragen om strategische keuzes. Eén van de mogelijkheden die steeds vaker wordt verkend\, is samenwerking of fusie tussen onderwijsorganisaties. \n\n\n\nMaar wat betekent samenwerken of fuseren in de praktijk? Welke kansen biedt het – en waar moet je als bestuurder of toezichthouder scherp op zijn? \n\n\n\nWij nodigen je van harte uit voor een bijeenkomst over samenwerken en fuseren in het funderend onderwijs. \n\n\n\nIn deze bijeenkomst \n\n\n\n\nKrijg je inzicht in het waarom van samenwerking en wanneer fusie een strategische optie kan zijn.\n\n\n\nKrijg je inzicht in het wettelijke kader rondom samenwerking en fusie in het onderwijs.\n\n\n\nBespreken we de rol van bestuur en raad van toezicht in verschillende fasen van een fusieproces.\n\n\n\nDelen we praktische lessen uit recente fusietrajecten.\n\n\n\nIs er ruimte voor uitwisseling met collega-bestuurders en toezichthouders.\n\n\n\n\nDeze bijeenkomst biedt je de gelegenheid om kennis te verdiepen\, ervaringen te delen en vooruit te kijken naar duurzame organisatievormen voor het onderwijs van morgen. \n\n\n\nVoor wie \n\n\n\nBestuurders en leden van raden van toezicht in het primair en voortgezet onderwijs. \n\n\n\nPraktische informatie \n\n\n\n\n\nWe sluiten af met een gezamenlijke maaltijd.  \n\n\n\nHet aantal plaatsen is beperkt. De datum van aanmelding sluit op: vrijdag 10 april. \n\n\n\nDe kosten voor deze bijeenkomst bedragen € 250\, incl. maaltijd. \n\n\n\nAanmelden is mogelijk via onderstaande link. \n\n\n\nUITNODIGING Oriëntatie op samenwerking en bestuurlijke fusie – Formulier invullen
URL:https://www.vosabb.nl/kalender/orientatie-op-samenwerking-en-bestuurlijke-fusie-bijeenkomst-voor-bestuurders-en-toezichthouders-alkmaar/
LOCATION:Bij Huub\, Nijenburgerweg 5\, Alkmaar\, 1812 LT
CATEGORIES:Bijeenkomst
END:VEVENT
BEGIN:VEVENT
DTSTART;TZID=Europe/Amsterdam:20260527T093000
DTEND;TZID=Europe/Amsterdam:20260527T120000
DTSTAMP:20260423T162852
CREATED:20250826T150041Z
LAST-MODIFIED:20250828T140427Z
UID:150472-1779874200-1779883200@www.vosabb.nl
SUMMARY:Kennisnetwerk Financiën 3 - PO regio midden
DESCRIPTION:Deze bijeenkomst is bedoeld om kennis en ervaring over financiën met elkaar te delen. Deelname is gratis voor leden van VOS/ABB.
URL:https://www.vosabb.nl/kalender/netwerkbijeenkomst-kennisnetwerk-financien-3-midden/
LOCATION:VOS/ABB\, Houttuinlaan 8\, Woerden\, 3447 GM
CATEGORIES:Bijeenkomst
END:VEVENT
BEGIN:VEVENT
DTSTART;TZID=Europe/Amsterdam:20260528T093000
DTEND;TZID=Europe/Amsterdam:20260528T120000
DTSTAMP:20260423T162852
CREATED:20250826T150310Z
LAST-MODIFIED:20250828T140353Z
UID:150475-1779960600-1779969600@www.vosabb.nl
SUMMARY:Kennisnetwerk Financiën 3 - PO regio noord-oost
DESCRIPTION:Deze bijeenkomst is bedoeld om kennis en ervaring over financiën met elkaar te delen. Deelname is gratis voor leden van VOS/ABB.
URL:https://www.vosabb.nl/kalender/netwerkbijeenkomst-kennisnetwerk-financien-3-noord-oost/
LOCATION:Openbaar Onderwijs Emmen\, Stadionplein 5\, Emmen\, 7825 SG
CATEGORIES:Bijeenkomst
END:VEVENT
BEGIN:VEVENT
DTSTART;TZID=Europe/Amsterdam:20260528T103000
DTEND;TZID=Europe/Amsterdam:20260528T153000
DTSTAMP:20260423T162852
CREATED:20251202T140223Z
LAST-MODIFIED:20260212T081453Z
UID:152385-1779964200-1779982200@www.vosabb.nl
SUMMARY:HR-dag: Inclusie & Leiderschap: Van Ervaren tot Veranderen
DESCRIPTION:Tijdens deze verdiepende dag onderzoeken we wat inclusie écht betekent voor onze organisaties en duiken we in de wereld van cultuur- en gedragsverandering. \n\n\n\nInloop vanaf 10.00 uur.
URL:https://www.vosabb.nl/kalender/hr-dag-inclusie-leiderschap-van-ervaren-tot-veranderen/
LOCATION:De Hall\, Korenmolenlaan 4\, Woerden\, 3447 GG
END:VEVENT
BEGIN:VEVENT
DTSTART;TZID=Europe/Amsterdam:20260603T090000
DTEND;TZID=Europe/Amsterdam:20260603T101500
DTSTAMP:20260423T162852
CREATED:20250909T065927Z
LAST-MODIFIED:20250909T065942Z
UID:150625-1780477200-1780481700@www.vosabb.nl
SUMMARY:HRM-bijeenkomst Versterken en Verdiepen - PO/VO (online)
DESCRIPTION:Op deze online bijeenkomst kunt u HRM-gerelateerde vragen of dilemma’s voorleggen aan collega’s en onze HRM-adviseur Addy Nieuwenhuis.  \n\n\n\nDe bijeenkomsten zijn van 09.00 tot 10.15 uur.
URL:https://www.vosabb.nl/kalender/hrm-bijeenkomst-versterken-en-verdiepen-po-vo-online-12/
LOCATION:Online bijeenkomst
END:VEVENT
BEGIN:VEVENT
DTSTART;TZID=Europe/Amsterdam:20260603T093000
DTEND;TZID=Europe/Amsterdam:20260603T120000
DTSTAMP:20260423T162852
CREATED:20250826T151146Z
LAST-MODIFIED:20250828T140327Z
UID:150482-1780479000-1780488000@www.vosabb.nl
SUMMARY:Kennisnetwerk Financiën 3 - VO landelijk digitaal
DESCRIPTION:Deze bijeenkomst is bedoeld om kennis en ervaring over financiën met elkaar te delen. Deelname is gratis voor leden van VOS/ABB.
URL:https://www.vosabb.nl/kalender/netwerkbijeenkomst-kennisnetwerk-financien-3-vo-landelijk/
LOCATION:Online via teams\, Teams
CATEGORIES:Bijeenkomst
END:VEVENT
BEGIN:VEVENT
DTSTART;TZID=Europe/Amsterdam:20260608T103000
DTEND;TZID=Europe/Amsterdam:20260608T153000
DTSTAMP:20260423T162852
CREATED:20251202T150835Z
LAST-MODIFIED:20260209T125137Z
UID:152414-1780914600-1780932600@www.vosabb.nl
SUMMARY:Kennismakingstraining FUWA – PO/VO
DESCRIPTION:Het doel van deze kennismakingstraining is om vertrouwd te raken met het beschrijven van functies en om kennis te maken met de achtergronden van de weging met functiewaardering (FUWA) en de belangrijkste punten die zich daarbij kunnen voordoen.
URL:https://www.vosabb.nl/kalender/kennismakingstraining-fuwa-po-vo-10/
LOCATION:VOS/ABB\, Houttuinlaan 8\, Woerden\, 3447 GM
END:VEVENT
BEGIN:VEVENT
DTSTART;TZID=Europe/Amsterdam:20260611T083000
DTEND;TZID=Europe/Amsterdam:20260611T120000
DTSTAMP:20260423T162852
CREATED:20250826T150525Z
LAST-MODIFIED:20260324T084338Z
UID:150477-1781166600-1781179200@www.vosabb.nl
SUMMARY:Kennisnetwerk Financiën 3 - PO regio zuid-oost
DESCRIPTION:Deze bijeenkomst is bedoeld om kennis en ervaring over financiën met elkaar te delen. Deelname is gratis voor leden van VOS/ABB.
URL:https://www.vosabb.nl/kalender/netwerkbijeenkomst-kennisnetwerk-financien-3-zuid-oost/
CATEGORIES:Bijeenkomst
END:VEVENT
BEGIN:VEVENT
DTSTART;TZID=Europe/Amsterdam:20260701T090000
DTEND;TZID=Europe/Amsterdam:20260701T101500
DTSTAMP:20260423T162852
CREATED:20250909T070042Z
LAST-MODIFIED:20250909T070057Z
UID:150627-1782896400-1782900900@www.vosabb.nl
SUMMARY:HRM-bijeenkomst Versterken en Verdiepen - PO/VO (online)
DESCRIPTION:Op deze online bijeenkomst kunt u HRM-gerelateerde vragen of dilemma’s voorleggen aan collega’s en onze HRM-adviseur Addy Nieuwenhuis.  \n\n\n\nDe bijeenkomsten zijn van 09.00 tot 10.15 uur.
URL:https://www.vosabb.nl/kalender/hrm-bijeenkomst-versterken-en-verdiepen-po-vo-online-13/
LOCATION:Online bijeenkomst
END:VEVENT
BEGIN:VEVENT
DTSTART;TZID=Europe/Amsterdam:20260701T150000
DTEND;TZID=Europe/Amsterdam:20260701T163000
DTSTAMP:20260423T162852
CREATED:20260417T162041Z
LAST-MODIFIED:20260417T162058Z
UID:153535-1782918000-1782923400@www.vosabb.nl
SUMMARY:Algemene ledenvergadering
DESCRIPTION:
URL:https://www.vosabb.nl/kalender/algemene-ledenvergadering/
LOCATION:Online via teams\, Teams
CATEGORIES:Bijeenkomst
END:VEVENT
BEGIN:VEVENT
DTSTART;TZID=Europe/Amsterdam:20260929T103000
DTEND;TZID=Europe/Amsterdam:20260929T140000
DTSTAMP:20260423T162852
CREATED:20251202T145040Z
LAST-MODIFIED:20251202T145049Z
UID:152400-1790677800-1790690400@www.vosabb.nl
SUMMARY:Kennisnetwerk HRM PO/VO - Midden
DESCRIPTION:Graag nodigen wij je uit voor onze Werkgeluk en inclusie. Deze bijeenkomsten bieden inspiratie\, kennisdeling en praktische handvatten voor jouw werk als HR-adviseur in het primair en voortgezet onderwijs. \n\n\n\n\n\nInclusief lunch. \n\n\n\nInschrijven mag via welkom@vosabb.nl\, vergeet hierbij niet te melden voor welke bijeenkomst je je aan wilt melden. \n\n\n\nInschrijving is definitief wanneer je de bevestiging van ons ontvangen hebt.
URL:https://www.vosabb.nl/kalender/kennisnetwerk-hrm-po-vo-midden-2/
LOCATION:VOS/ABB\, Houttuinlaan 8\, Woerden\, 3447 GM
END:VEVENT
BEGIN:VEVENT
DTSTART;TZID=Europe/Amsterdam:20261001T103000
DTEND;TZID=Europe/Amsterdam:20261001T140000
DTSTAMP:20260423T162852
CREATED:20251202T145352Z
LAST-MODIFIED:20251202T145401Z
UID:152402-1790850600-1790863200@www.vosabb.nl
SUMMARY:Kennisnetwerk HRM PO/VO - Noord
DESCRIPTION:Graag nodigen wij je uit voor onze Werkgeluk en inclusie. Deze bijeenkomsten bieden inspiratie\, kennisdeling en praktische handvatten voor jouw werk als HR-adviseur in het primair en voortgezet onderwijs. \n\n\n\n\n\nInclusief lunch. \n\n\n\nInschrijven mag via welkom@vosabb.nl\, vergeet hierbij niet te melden voor welke bijeenkomst je je aan wilt melden. \n\n\n\nInschrijving is definitief wanneer je de bevestiging van ons ontvangen hebt.
URL:https://www.vosabb.nl/kalender/kennisnetwerk-hrm-po-vo-noord-2/
LOCATION:Stichting Op Kop\, Eendrachtsplein\, Giethoorn\, 8355 DL
END:VEVENT
BEGIN:VEVENT
DTSTART;TZID=Europe/Amsterdam:20261006T103000
DTEND;TZID=Europe/Amsterdam:20261006T140000
DTSTAMP:20260423T162852
CREATED:20251202T145610Z
LAST-MODIFIED:20251202T145619Z
UID:152405-1791282600-1791295200@www.vosabb.nl
SUMMARY:Kennisnetwerk HRM PO/VO - Zuid
DESCRIPTION:Graag nodigen wij je uit voor onze Werkgeluk en inclusie. Deze bijeenkomsten bieden inspiratie\, kennisdeling en praktische handvatten voor jouw werk als HR-adviseur in het primair en voortgezet onderwijs. \n\n\n\n\n\nInclusief lunch. \n\n\n\nInschrijven mag via welkom@vosabb.nl\, vergeet hierbij niet te melden voor welke bijeenkomst je je aan wilt melden. \n\n\n\nInschrijving is definitief wanneer je de bevestiging van ons ontvangen hebt.
URL:https://www.vosabb.nl/kalender/kennisnetwerk-hrm-po-vo-zuid-2/
LOCATION:SAAM Scholen\, Boekweithof 59\, Berghem\, 5351 MG\, Netherlands
END:VEVENT
BEGIN:VEVENT
DTSTART;TZID=Europe/Amsterdam:20261007T090000
DTEND;TZID=Europe/Amsterdam:20261007T170000
DTSTAMP:20260423T162852
CREATED:20260127T095854Z
LAST-MODIFIED:20260420T101644Z
UID:152947-1791363600-1791392400@www.vosabb.nl
SUMMARY:Mediatraining crisiscommunicatie PO/VO
DESCRIPTION:Op woensdag 7 oktober geven wij weer onze mediatraining crisiscommunicatie voor mensen uit het onderwijs. Deze unieke scholingsbijeenkomst van een dag wordt verzorgd door communicatieadviseur Ronald Brouwers. \n\n\n\nDe mediatraining wordt gegeven op woensdag 7 okotober 2026 (09.00-17.00 uur) in ons kantoor in Woerden. \n\n\n\n\n\n\n\nOp de mediatraining crisiscommunicatie zijn de Algemene voorwaarden van VOS/ABB toepassing.
URL:https://www.vosabb.nl/kalender/mediatraining-crisiscommunicatie-po-vo-5/
LOCATION:Kantoor VOS/ABB\, Houttuinlaan 8\, Woerden\, 3447 GM
CATEGORIES:Bijeenkomst
END:VEVENT
BEGIN:VEVENT
DTSTART;TZID=Europe/Amsterdam:20261008T100000
DTEND;TZID=Europe/Amsterdam:20261008T123000
DTSTAMP:20260423T162852
CREATED:20251202T145807Z
LAST-MODIFIED:20251202T145815Z
UID:152407-1791453600-1791462600@www.vosabb.nl
SUMMARY:Kennisnetwerk HRM PO/VO - Online
DESCRIPTION:Graag nodigen wij je uit voor onze Werkgeluk en inclusie. Deze bijeenkomsten bieden inspiratie\, kennisdeling en praktische handvatten voor jouw werk als HR-adviseur in het primair en voortgezet onderwijs. \n\n\n\n\n\nInschrijven mag via welkom@vosabb.nl\, vergeet hierbij niet te melden voor welke bijeenkomst je je aan wilt melden. \n\n\n\nInschrijving is definitief wanneer je de bevestiging van ons ontvangen hebt.
URL:https://www.vosabb.nl/kalender/kennisnetwerk-hrm-po-vo-online-2/
LOCATION:Online
END:VEVENT
BEGIN:VEVENT
DTSTART;TZID=Europe/Amsterdam:20261029T103000
DTEND;TZID=Europe/Amsterdam:20261029T153000
DTSTAMP:20260423T162852
CREATED:20251202T151001Z
LAST-MODIFIED:20260209T124953Z
UID:152417-1793269800-1793287800@www.vosabb.nl
SUMMARY:Kennismakingstraining FUWA – PO/VO
DESCRIPTION:Het doel van deze kennismakingstraining is om vertrouwd te raken met het beschrijven van functies en om kennis te maken met de achtergronden van de weging met functiewaardering (FUWA) en de belangrijkste punten die zich daarbij kunnen voordoen.
URL:https://www.vosabb.nl/kalender/kennismakingstraining-fuwa-po-vo-11/
LOCATION:VOS/ABB\, Houttuinlaan 8\, Woerden\, 3447 GM
END:VEVENT
END:VCALENDAR